BEGIN:VCALENDAR
VERSION:2.0
PRODID:-//Tempo Lake Glade Neighborhood - ECPv6.15.20//NONSGML v1.0//EN
CALSCALE:GREGORIAN
METHOD:PUBLISH
X-WR-CALNAME:Tempo Lake Glade Neighborhood
X-ORIGINAL-URL:https://tempolakeglade.com
X-WR-CALDESC:Events for Tempo Lake Glade Neighborhood
REFRESH-INTERVAL;VALUE=DURATION:PT1H
X-Robots-Tag:noindex
X-PUBLISHED-TTL:PT1H
BEGIN:VTIMEZONE
TZID:America/Los_Angeles
BEGIN:DAYLIGHT
TZOFFSETFROM:-0800
TZOFFSETTO:-0700
TZNAME:PDT
DTSTART:20230312T100000
END:DAYLIGHT
BEGIN:STANDARD
TZOFFSETFROM:-0700
TZOFFSETTO:-0800
TZNAME:PST
DTSTART:20231105T090000
END:STANDARD
BEGIN:DAYLIGHT
TZOFFSETFROM:-0800
TZOFFSETTO:-0700
TZNAME:PDT
DTSTART:20240310T100000
END:DAYLIGHT
BEGIN:STANDARD
TZOFFSETFROM:-0700
TZOFFSETTO:-0800
TZNAME:PST
DTSTART:20241103T090000
END:STANDARD
BEGIN:DAYLIGHT
TZOFFSETFROM:-0800
TZOFFSETTO:-0700
TZNAME:PDT
DTSTART:20250309T100000
END:DAYLIGHT
BEGIN:STANDARD
TZOFFSETFROM:-0700
TZOFFSETTO:-0800
TZNAME:PST
DTSTART:20251102T090000
END:STANDARD
BEGIN:DAYLIGHT
TZOFFSETFROM:-0800
TZOFFSETTO:-0700
TZNAME:PDT
DTSTART:20260308T100000
END:DAYLIGHT
BEGIN:STANDARD
TZOFFSETFROM:-0700
TZOFFSETTO:-0800
TZNAME:PST
DTSTART:20261101T090000
END:STANDARD
BEGIN:DAYLIGHT
TZOFFSETFROM:-0800
TZOFFSETTO:-0700
TZNAME:PDT
DTSTART:20270314T100000
END:DAYLIGHT
BEGIN:STANDARD
TZOFFSETFROM:-0700
TZOFFSETTO:-0800
TZNAME:PST
DTSTART:20271107T090000
END:STANDARD
END:VTIMEZONE
BEGIN:VEVENT
DTSTART;TZID=America/Los_Angeles:20260413T180000
DTEND;TZID=America/Los_Angeles:20260413T190000
DTSTAMP:20260419T084820
CREATED:20260331T151947Z
LAST-MODIFIED:20260409T154343Z
UID:3485-1776103200-1776106800@tempolakeglade.com
SUMMARY:April TLGA board meeting
DESCRIPTION:March 9\, Draft Board Meeting Minutes \n\n\n\nApril Meeting Agenda
URL:https://tempolakeglade.com/calendar_event/april-tlga-board-meeting/
LOCATION:East Olympia Firehouse\, 8047 Normandy St. SE\, East Olympia\, WA\, 98501\, United States
END:VEVENT
BEGIN:VEVENT
DTSTART;TZID=America/Los_Angeles:20260309T180000
DTEND;TZID=America/Los_Angeles:20260309T190000
DTSTAMP:20260419T084820
CREATED:20260219T212631Z
LAST-MODIFIED:20260310T150916Z
UID:3451-1773079200-1773082800@tempolakeglade.com
SUMMARY:March TLG board meeting
DESCRIPTION:March board meeting agenda
URL:https://tempolakeglade.com/calendar_event/march-tlg-board-meeting/
LOCATION:East Olympia Firehouse\, 8047 Normandy St. SE\, East Olympia\, WA\, 98501\, United States
END:VEVENT
BEGIN:VEVENT
DTSTART;TZID=America/Los_Angeles:20260209T180000
DTEND;TZID=America/Los_Angeles:20260209T190000
DTSTAMP:20260419T084820
CREATED:20260201T213608Z
LAST-MODIFIED:20260206T214146Z
UID:3424-1770660000-1770663600@tempolakeglade.com
SUMMARY:February TLGA HOA Meeting
DESCRIPTION:Agenda \n\n\n\nTLGA Balance Sheet as of 2/6/26 \n\n\n\nTLGA P&L 6/25/ – 2/26
URL:https://tempolakeglade.com/calendar_event/february-tlga-hoa-meeting/
LOCATION:East Olympia Firehouse\, 8047 Normandy St. SE\, East Olympia\, WA\, 98501\, United States
END:VEVENT
BEGIN:VEVENT
DTSTART;TZID=America/Los_Angeles:20260112T180000
DTEND;TZID=America/Los_Angeles:20260112T190000
DTSTAMP:20260419T084820
CREATED:20251223T174544Z
LAST-MODIFIED:20260113T052426Z
UID:3363-1768240800-1768244400@tempolakeglade.com
SUMMARY:January TLGA HOA Meeting
DESCRIPTION:Agenda \n\n\n\nSample reimbursement for water lilly assessment
URL:https://tempolakeglade.com/calendar_event/january-tlga-hoa-meeting/
LOCATION:East Olympia Firehouse\, 8047 Normandy St. SE\, East Olympia\, WA\, 98501\, United States
END:VEVENT
BEGIN:VEVENT
DTSTART;TZID=America/Los_Angeles:20251211T173000
DTEND;TZID=America/Los_Angeles:20251211T190000
DTSTAMP:20260419T084820
CREATED:20251125T193424Z
LAST-MODIFIED:20251211T005226Z
UID:3340-1765474200-1765479600@tempolakeglade.com
SUMMARY:December TLGA HOA Meeting
DESCRIPTION:From 5:30-6pm will be a Meet & Greet with the TLGA Board that will include some Christmas cookies. Feel free to bring some to share! \n\n\n\n6-7pm – Will be a brief meeting to communicate the vision of the current board and what you can expect from the HOA board in the coming months. \n\n\n\nAgendaTLGA Balance sheetTLGA Profit and loss statement
URL:https://tempolakeglade.com/calendar_event/december-tlga-hoa-meeting/
LOCATION:East Olympia Firehouse\, 8047 Normandy St SE\, Olympia\, Washington\, 98501\, United States
END:VEVENT
BEGIN:VEVENT
DTSTART;TZID=America/Los_Angeles:20251108T100000
DTEND;TZID=America/Los_Angeles:20251108T120000
DTSTAMP:20260419T084820
CREATED:20251021T203940Z
LAST-MODIFIED:20251021T203948Z
UID:3320-1762596000-1762603200@tempolakeglade.com
SUMMARY:ANNUAL MEMBERS MEETING 2025
DESCRIPTION:This will be considered the Annual Members Meeting for the year 2025.  Please bring your ballots for counting.  If you are mailing in a ballot\, it must be postmarked by Nov.4. Sorry for the confusion about the postmark date. It should be mailed to: PO BOX 553\, E. OLYMPIA\, WA 98540.  Please include all pages with voting choices.  If the voting option is missing (“yes/no”)\, write in your vote as “yes” or “no”.
URL:https://tempolakeglade.com/calendar_event/annual-members-meeting-2025/
LOCATION:East Olympia Firehouse\, 8047 Normandy St. SE\, East Olympia\, WA\, 98501\, United States
END:VEVENT
BEGIN:VEVENT
DTSTART;TZID=America/Los_Angeles:20250912T173000
DTEND;TZID=America/Los_Angeles:20250912T183000
DTSTAMP:20260419T084820
CREATED:20250905T230403Z
LAST-MODIFIED:20250909T164204Z
UID:3291-1757698200-1757701800@tempolakeglade.com
SUMMARY:Auditor Q&A
DESCRIPTION:A Q&A meeting of members with the auditor will be held at the TLGA South Park tennis court.  Please bring your own chair. The revised/corrected audit has been posted along with a letter of explanation and can be found on the HOA and Parks Finance Items page.
URL:https://tempolakeglade.com/calendar_event/auditor-qa/
LOCATION:WA
END:VEVENT
BEGIN:VEVENT
DTSTART;TZID=America/Los_Angeles:20250822T080000
DTEND;TZID=America/Los_Angeles:20250824T170000
DTSTAMP:20260419T084820
CREATED:20250806T195452Z
LAST-MODIFIED:20250806T195454Z
UID:3252-1755849600-1756054800@tempolakeglade.com
SUMMARY:Annual TLGA Garage Sale
DESCRIPTION:TLGA will post signage for the annual HOA garage sale.  Members are welcome to take advantage of this by holding their own garage sale on their property.  Members may use the parks if they wish\, but all items must be removed by Sunday evening. Thank you.
URL:https://tempolakeglade.com/calendar_event/annual-tlga-garage-sale/
LOCATION:WA
END:VEVENT
BEGIN:VEVENT
DTSTART;TZID=America/Los_Angeles:20250805T173000
DTEND;TZID=America/Los_Angeles:20250805T180000
DTSTAMP:20260419T084820
CREATED:20250717T001557Z
LAST-MODIFIED:20250801T231827Z
UID:3227-1754415000-1754416800@tempolakeglade.com
SUMMARY:Working Board Meeting: Aug 5\, 2025
DESCRIPTION:This is NOT the annual members meeting.  It is a regular working meeting of the TLGA board. agenda is not made yet.
URL:https://tempolakeglade.com/calendar_event/working-board-meeting-aug-5-2025/
LOCATION:Tumwater Fire Station\, 311 Israel Rd SW\, Tumwater\, Washington\, 98501
END:VEVENT
BEGIN:VEVENT
DTSTART;TZID=America/Los_Angeles:20250712T100000
DTEND;TZID=America/Los_Angeles:20250712T140000
DTSTAMP:20260419T084820
CREATED:20250703T215529Z
LAST-MODIFIED:20250703T221254Z
UID:3195-1752314400-1752328800@tempolakeglade.com
SUMMARY:Annual Members Mtg 2025\, 2nd attempt
DESCRIPTION:If a quorum (62) is met\, the meeting will be held. If it is not met\, and the atmosphere in the room is respectful\, there is potential for a town hall meeting with no voting. The proposed budget and agenda for the Annual Members Meeting 2025 remain the same. Please print your own copy. Sign in for the meeting will require the confirmation of your name\, lot and address\, as was done at the last meeting. Thank you for your patience. \n\n\n\nTempo Lake HOA Proposed Budget 25-26\n\n\n\nTempo Lake members letter 2025
URL:https://tempolakeglade.com/calendar_event/annual-members-mtg-2025-2nd-attempt/
LOCATION:East Olympia Firehouse\, 8047 Normandy St. SE\, East Olympia\, WA\, 98501\, United States
END:VEVENT
BEGIN:VEVENT
DTSTART;TZID=America/Los_Angeles:20250517T100000
DTEND;TZID=America/Los_Angeles:20250517T110000
DTSTAMP:20260419T084820
CREATED:20250505T192233Z
LAST-MODIFIED:20250505T192236Z
UID:3124-1747476000-1747479600@tempolakeglade.com
SUMMARY:FISH STOCKING
DESCRIPTION:Residence are welcome to witness the stocking of the lake at the North Park by the boat launch.
URL:https://tempolakeglade.com/calendar_event/fish-stocking/
LOCATION:WA
END:VEVENT
BEGIN:VEVENT
DTSTART;TZID=America/Los_Angeles:20250510T100000
DTEND;TZID=America/Los_Angeles:20250510T130000
DTSTAMP:20260419T084820
CREATED:20250129T183018Z
LAST-MODIFIED:20250514T051902Z
UID:3018-1746871200-1746882000@tempolakeglade.com
SUMMARY:2025 TLGA Annual Members' Meeting\, May 10 *rescheduled
DESCRIPTION:Every member of TLGA should make a serious effort to attend.   NOTE: THIS MEETING WAS ADJORNED BECAUSE IT FAILED TO MEET QUARUM. IT WILL BE RESCHEDULED FOR MID-SUMMER.  \n\n\n\nTempo Lake Annual members letter/agenda 2025Download\n\n\n\nTempo Lake HOA Proposed Budget 25-26Download
URL:https://tempolakeglade.com/calendar_event/2025-tlga-members-meeting/
LOCATION:WA
END:VEVENT
BEGIN:VEVENT
DTSTART;TZID=America/Los_Angeles:20250407T173000
DTEND;TZID=America/Los_Angeles:20250407T190000
DTSTAMP:20260419T084820
CREATED:20250326T142406Z
LAST-MODIFIED:20250404T224442Z
UID:3076-1744047000-1744052400@tempolakeglade.com
SUMMARY:April 7\, 2025 HOA Meeting
DESCRIPTION:April 7\,  2025 HOA MTG AGENDA
URL:https://tempolakeglade.com/calendar_event/april-7-2025-hoa-meeting/
LOCATION:311 Iserial road\, tumwater
END:VEVENT
BEGIN:VEVENT
DTSTART;TZID=America/Los_Angeles:20250312T173000
DTEND;TZID=America/Los_Angeles:20250312T183000
DTSTAMP:20260419T084820
CREATED:20250227T182352Z
LAST-MODIFIED:20250311T012554Z
UID:3058-1741800600-1741804200@tempolakeglade.com
SUMMARY:Board Mtg March 12\, 2025
DESCRIPTION:please note venue change. \n\n\n\nTLGA March 2025 Board Mtg Agenda
URL:https://tempolakeglade.com/calendar_event/board-mtg-march-12-2025/
LOCATION:Tumwater Fire Department\, 311 Israel Road\, tumwater\, Washington\, 98501\, United States
END:VEVENT
BEGIN:VEVENT
DTSTART;TZID=America/Los_Angeles:20250210T133000
DTEND;TZID=America/Los_Angeles:20250210T143000
DTSTAMP:20260419T084820
CREATED:20250209T210459Z
LAST-MODIFIED:20250210T214301Z
UID:3044-1739194200-1739197800@tempolakeglade.com
SUMMARY:Special Meeting of the Board of Trustees
DESCRIPTION:The purpose of the meeting: \n\n\n\n\nValidity of the recall\n\n\n\nSmith Alling P.S.a. Approve of S/A being our legal repb. Letting S/A take all reasonable legal actions with the best interestof our community at the forefront.c. Personal representative\n\n\n\n\nfeb 10 2025 special mtg adgenda
URL:https://tempolakeglade.com/calendar_event/special-meeting-of-the-board-of-trustees/
LOCATION:WA
END:VEVENT
BEGIN:VEVENT
DTSTART;TZID=America/Los_Angeles:20241119T173000
DTEND;TZID=America/Los_Angeles:20241119T190000
DTSTAMP:20260419T084820
CREATED:20240824T001106Z
LAST-MODIFIED:20241119T034107Z
UID:2944-1732037400-1732042800@tempolakeglade.com
SUMMARY:HOA mtg Nov. 19\, 2024 postponed
DESCRIPTION:TLGA members  are welcome to attend
URL:https://tempolakeglade.com/calendar_event/hoa-mtg-nov-19-2024/
LOCATION:East Olympia Firehouse\, 8047 Normandy St. SE\, East Olympia\, WA\, 98501\, United States
END:VEVENT
BEGIN:VEVENT
DTSTART;TZID=America/Los_Angeles:20241008T173000
DTEND;TZID=America/Los_Angeles:20241008T190000
DTSTAMP:20260419T084820
CREATED:20240824T000833Z
LAST-MODIFIED:20241008T020340Z
UID:2942-1728408600-1728414000@tempolakeglade.com
SUMMARY:HOA board mtg Oct 8\, 2024
DESCRIPTION:TLGA members are welcome to attend. \n\n\n\nTLGA Oct 2024 Board Mtg Agenda
URL:https://tempolakeglade.com/calendar_event/hoa-board-mtg-oct-8-2024/
LOCATION:East Olympia Firehouse\, 8047 Normandy St. SE\, East Olympia\, WA\, 98501\, United States
END:VEVENT
BEGIN:VEVENT
DTSTART;TZID=America/Los_Angeles:20240806T173000
DTEND;TZID=America/Los_Angeles:20240806T180000
DTSTAMP:20260419T084820
CREATED:20240602T221041Z
LAST-MODIFIED:20240805T221930Z
UID:2750-1722965400-1722967200@tempolakeglade.com
SUMMARY:Aug 6 TLGA Board Mtg
DESCRIPTION:Regular TLGA Board Meeting.  There is no meeting scheduled for July. \n\n\n\nTLGA August 2024 Board Meeting Agenda
URL:https://tempolakeglade.com/calendar_event/aug-6-tlga-board-mtg/
LOCATION:East Olympia Firehouse\, 8047 Normandy St. SE\, East Olympia\, WA\, 98501\, United States
END:VEVENT
BEGIN:VEVENT
DTSTART;TZID=America/Los_Angeles:20240704T160000
DTEND;TZID=America/Los_Angeles:20240705T233000
DTSTAMP:20260419T084820
CREATED:20240221T204119Z
LAST-MODIFIED:20240703T044132Z
UID:2526-1720108800-1720222200@tempolakeglade.com
SUMMARY:TLGA 4th of July Picnic
DESCRIPTION:A time to come together to celebrate the birth of the USA in the North Park! \n\n\n\nJuly 4\, 2024\, afternoon till 11. North Park (not sport-court park) Park will close at midnight as an exception for the holiday (normally closes at dusk) \n\n\n\n. Come join your TLGA neighbors for a 4th of July neighborhood picnic! Bring a picnic for your family\, chairs and blankets\, and a side to share. You can use the newly-installed charcoal barbeque. There will be another barbeque available. Let’s enjoy one another on this holiday and play yard games. You are welcome to bring your own fireworks which will be allowed on the road-side of the fence where we will have buckets of water for safety. No fireworks allowed on the lake-side of the fence! Cleanup party to follow on July 5th at 4pm. Any questions contact David or Destany 360-790-1546 \n\n\n\n Remember: No fireworks in the TLGA parks (between the fence and the lake in the North Park as defined in Covenants E-5: Covenants E-3 “…No fire works… within the community areas at any time.”)
URL:https://tempolakeglade.com/calendar_event/tlga-4th-of-july-picnic/
LOCATION:WA
END:VEVENT
BEGIN:VEVENT
DTSTART;TZID=America/Los_Angeles:20240621T080000
DTEND;TZID=America/Los_Angeles:20240623T170000
DTSTAMP:20260419T084820
CREATED:20240221T201903Z
LAST-MODIFIED:20240221T201904Z
UID:2524-1718956800-1719162000@tempolakeglade.com
SUMMARY:TLGA Annual Garage Sale
DESCRIPTION:TLGA will advertise on social media and using the HOA bulletin boards.  All living in TLGA are welcome to use this time to have private garage sales on their lot or use the parks\, making their own signs and providing their own tables\, etc. If planning on using the parks\, please be sure to take all items/signs/tables out of the park by Sunday evening.
URL:https://tempolakeglade.com/calendar_event/tlga-annual-garage-sale/
LOCATION:WA
END:VEVENT
BEGIN:VEVENT
DTSTART;TZID=America/Los_Angeles:20240619T173000
DTEND;TZID=America/Los_Angeles:20240619T180000
DTSTAMP:20260419T084820
CREATED:20240602T220802Z
LAST-MODIFIED:20240619T213737Z
UID:2745-1718818200-1718820000@tempolakeglade.com
SUMMARY:June 19 Board Mtg: AT SOUTH PARK
DESCRIPTION:Regular TLGA board meeting. Please note: there will be no meeting in July. Please print your own agenda (below) if you wish to follow along. \n\n\n\nTLGA-june-2024-Monthly-Brd-Mtng-Agenda
URL:https://tempolakeglade.com/calendar_event/june-19-board-mtg/
LOCATION:WA
END:VEVENT
BEGIN:VEVENT
DTSTART;TZID=America/Los_Angeles:20240521T173000
DTEND;TZID=America/Los_Angeles:20240521T190000
DTSTAMP:20260419T084820
CREATED:20240517T041141Z
LAST-MODIFIED:20240521T163439Z
UID:2684-1716312600-1716318000@tempolakeglade.com
SUMMARY:BOARD MEETING MAY 21
DESCRIPTION:Monthly TLGA Board meeting.  All members in good standing are eligible to attend. \n\n\n\nMay-21-2024-monthly-tlga-board-agenda
URL:https://tempolakeglade.com/calendar_event/board-meeting-may-21/
LOCATION:East Olympia Firehouse\, 8047 Normandy St. SE\, East Olympia\, WA\, 98501\, United States
END:VEVENT
BEGIN:VEVENT
DTSTART;TZID=America/Los_Angeles:20240518T000000
DTEND;TZID=America/Los_Angeles:20240518T120000
DTSTAMP:20260419T084820
CREATED:20240404T173005Z
LAST-MODIFIED:20240517T035456Z
UID:2590-1715990400-1716033600@tempolakeglade.com
SUMMARY:2nd Annual Fish Stocking BBQ Pot Luck
DESCRIPTION:Fish will be released into the lake at the North Park boat launch\, followed by a potluck.
URL:https://tempolakeglade.com/calendar_event/2nd-annual-fish-stocking-bbq-pot-luck/
LOCATION:WA
END:VEVENT
BEGIN:VEVENT
DTSTART;TZID=America/Los_Angeles:20240511T100000
DTEND;TZID=America/Los_Angeles:20240511T140000
DTSTAMP:20260419T084820
CREATED:20240404T171435Z
LAST-MODIFIED:20240510T214231Z
UID:2584-1715421600-1715436000@tempolakeglade.com
SUMMARY:Annual HOA Members' Meeting 2024
DESCRIPTION:All owners in good standing are encouraged to attend this meeting. We will discuss many very important issues affecting our HOA and its future.  Please print the PDF below which includes the proposed budget and by-law changes.  According to the TLGA lawyer\, Thomas Westbrook\, you must be present to vote for board members and motions made at the meeting. Next term’s proposed budget is also posted here (and on the finance page of the website). \n\n\n\nTLGA 2024 Annual Meeting Agenda\n\n\n\nTLGA-2024-25-proposed-budget
URL:https://tempolakeglade.com/calendar_event/annual-hoa-members-meeting-2024/
LOCATION:East Olympia Firehouse\, 8047 Normandy St. SE\, East Olympia\, WA\, 98501\, United States
END:VEVENT
BEGIN:VEVENT
DTSTART;TZID=America/Los_Angeles:20240511T090000
DTEND;TZID=America/Los_Angeles:20240511T093000
DTSTAMP:20260419T084820
CREATED:20240510T143054Z
LAST-MODIFIED:20240510T143055Z
UID:2639-1715418000-1715419800@tempolakeglade.com
SUMMARY:special board meeting May 11: purpose:  to approve March Minutes
DESCRIPTION:A special meeting of the TLGA Board of Trustees has been called by Pres. Paul Gullekson for the exclusive purpose of approving the March Board of trustees meeting minutes.  This meeting will be held at the East Olympia Fire Station located at 8047 Normandy St. SE\, East Olympia\, WA.  This meeting will begin promptly at 9:00 AM on Saturday May 11th 2024. \n\n\n\n —  Posted Friday\, May 10\, 7:30am
URL:https://tempolakeglade.com/calendar_event/special-board-meeting-may-11-purpose-to-approve-march-minutes/
LOCATION:East Olympia Firehouse\, 8047 Normandy St. SE\, East Olympia\, WA\, 98501\, United States
END:VEVENT
BEGIN:VEVENT
DTSTART;TZID=America/Los_Angeles:20240420T090000
DTEND;TZID=America/Los_Angeles:20240420T113000
DTSTAMP:20260419T084820
CREATED:20240221T205746Z
LAST-MODIFIED:20240409T224250Z
UID:2528-1713603600-1713612600@tempolakeglade.com
SUMMARY:April 20: Dam Debris Bonfire and Pot Luck
DESCRIPTION:Come help clean up the south park (tennis court/dam). A list is being made but will include a bonfire. Lets keep our parks beautiful! Lunch around 11:30: Hot dogs\, buns\, and condiments are provided.  Side dishes and desserts and drinks are pot-luck. Come help and meets some neighbors!
URL:https://tempolakeglade.com/calendar_event/work-party/
LOCATION:WA
END:VEVENT
BEGIN:VEVENT
DTSTART;TZID=America/Los_Angeles:20240416T173000
DTEND;TZID=America/Los_Angeles:20240416T190000
DTSTAMP:20260419T084820
CREATED:20240214T185638Z
LAST-MODIFIED:20240413T233853Z
UID:2505-1713288600-1713294000@tempolakeglade.com
SUMMARY:CANCELLED: TLGA Board Meeting April 16
DESCRIPTION:agenda will be posted here the week before the meeting.
URL:https://tempolakeglade.com/calendar_event/tlga-board-meeting-april-16/
LOCATION:East Olympia Firehouse\, 8047 Normandy St. SE\, East Olympia\, WA\, 98501\, United States
END:VEVENT
BEGIN:VEVENT
DTSTART;TZID=America/Los_Angeles:20240326T173000
DTEND;TZID=America/Los_Angeles:20240326T190000
DTSTAMP:20260419T084820
CREATED:20240322T142851Z
LAST-MODIFIED:20240322T162434Z
UID:2569-1711474200-1711479600@tempolakeglade.com
SUMMARY:rescheduled March Board Mtg
DESCRIPTION:The board meeting is rescheduled for this Tuesday March 26th\, 2024 at 5:30.  The purpose of this meeting is to conduct the business that would have taken place during the regularly scheduled meeting that was cancelled last Tuesday March 19th\, 2024.   \n\n\n\nTLGA-mtg-agenda-March-2024-final
URL:https://tempolakeglade.com/calendar_event/rescheduled-march-board-mtg/
LOCATION:East Olympia Firehouse\, 8047 Normandy St. SE\, East Olympia\, WA\, 98501\, United States
END:VEVENT
BEGIN:VEVENT
DTSTART;TZID=America/Los_Angeles:20240319T173000
DTEND;TZID=America/Los_Angeles:20240319T190000
DTSTAMP:20260419T084820
CREATED:20240111T214108Z
LAST-MODIFIED:20240319T224714Z
UID:2432-1710869400-1710874800@tempolakeglade.com
SUMMARY:TLGA Board Meeting March 19**cancelled
DESCRIPTION:This meeting is cancelled as of 2pm today (march 19) due to both President and Vice president with family emergencies.  Please check the website for the reschedule date.   \n\n\n\nMonthly board meeting.  Agenda will be posted here the week of the meeting. Please print your own copy. Any member (owner) whos dues and assessments are paid are welcome to attend. \n\n\n\nTLGA-mtg-agenda-March-2024-draft
URL:https://tempolakeglade.com/calendar_event/tlga-board-meeting/
LOCATION:East Olympia Firehouse\, 8047 Normandy St. SE\, East Olympia\, WA\, 98501\, United States
END:VEVENT
BEGIN:VEVENT
DTSTART;TZID=America/Los_Angeles:20240309T100000
DTEND;TZID=America/Los_Angeles:20240309T110000
DTSTAMP:20260419T084820
CREATED:20240221T210327Z
LAST-MODIFIED:20240221T210328Z
UID:2530-1709978400-1709982000@tempolakeglade.com
SUMMARY:Dam Clearing Volunteer Training
DESCRIPTION:We need more volunteers to help keep the south park dam clear of debris.  Training and hold-harmless forms will be available.  If you can’t make this date\, contact Paul Gullekson\, HOA President\, for a private training. THANK YOU to all volunteers!
URL:https://tempolakeglade.com/calendar_event/dam-clearing-volunteer-training/
LOCATION:WA
END:VEVENT
END:VCALENDAR