BEGIN:VCALENDAR
VERSION:2.0
PRODID:-//Tempo Lake Glade Neighborhood - ECPv6.15.20//NONSGML v1.0//EN
CALSCALE:GREGORIAN
METHOD:PUBLISH
X-ORIGINAL-URL:https://tempolakeglade.com
X-WR-CALDESC:Events for Tempo Lake Glade Neighborhood
REFRESH-INTERVAL;VALUE=DURATION:PT1H
X-Robots-Tag:noindex
X-PUBLISHED-TTL:PT1H
BEGIN:VTIMEZONE
TZID:America/Los_Angeles
BEGIN:DAYLIGHT
TZOFFSETFROM:-0800
TZOFFSETTO:-0700
TZNAME:PDT
DTSTART:20170312T100000
END:DAYLIGHT
BEGIN:STANDARD
TZOFFSETFROM:-0700
TZOFFSETTO:-0800
TZNAME:PST
DTSTART:20171105T090000
END:STANDARD
BEGIN:DAYLIGHT
TZOFFSETFROM:-0800
TZOFFSETTO:-0700
TZNAME:PDT
DTSTART:20180311T100000
END:DAYLIGHT
BEGIN:STANDARD
TZOFFSETFROM:-0700
TZOFFSETTO:-0800
TZNAME:PST
DTSTART:20181104T090000
END:STANDARD
BEGIN:DAYLIGHT
TZOFFSETFROM:-0800
TZOFFSETTO:-0700
TZNAME:PDT
DTSTART:20190310T100000
END:DAYLIGHT
BEGIN:STANDARD
TZOFFSETFROM:-0700
TZOFFSETTO:-0800
TZNAME:PST
DTSTART:20191103T090000
END:STANDARD
BEGIN:DAYLIGHT
TZOFFSETFROM:-0800
TZOFFSETTO:-0700
TZNAME:PDT
DTSTART:20200308T100000
END:DAYLIGHT
BEGIN:STANDARD
TZOFFSETFROM:-0700
TZOFFSETTO:-0800
TZNAME:PST
DTSTART:20201101T090000
END:STANDARD
BEGIN:DAYLIGHT
TZOFFSETFROM:-0800
TZOFFSETTO:-0700
TZNAME:PDT
DTSTART:20210314T100000
END:DAYLIGHT
BEGIN:STANDARD
TZOFFSETFROM:-0700
TZOFFSETTO:-0800
TZNAME:PST
DTSTART:20211107T090000
END:STANDARD
BEGIN:DAYLIGHT
TZOFFSETFROM:-0800
TZOFFSETTO:-0700
TZNAME:PDT
DTSTART:20220313T100000
END:DAYLIGHT
BEGIN:STANDARD
TZOFFSETFROM:-0700
TZOFFSETTO:-0800
TZNAME:PST
DTSTART:20221106T090000
END:STANDARD
BEGIN:DAYLIGHT
TZOFFSETFROM:-0800
TZOFFSETTO:-0700
TZNAME:PDT
DTSTART:20230312T100000
END:DAYLIGHT
BEGIN:STANDARD
TZOFFSETFROM:-0700
TZOFFSETTO:-0800
TZNAME:PST
DTSTART:20231105T090000
END:STANDARD
BEGIN:DAYLIGHT
TZOFFSETFROM:-0800
TZOFFSETTO:-0700
TZNAME:PDT
DTSTART:20240310T100000
END:DAYLIGHT
BEGIN:STANDARD
TZOFFSETFROM:-0700
TZOFFSETTO:-0800
TZNAME:PST
DTSTART:20241103T090000
END:STANDARD
END:VTIMEZONE
BEGIN:VEVENT
DTSTART;TZID=America/Los_Angeles:20230513T100000
DTEND;TZID=America/Los_Angeles:20230513T100000
DTSTAMP:20260419T152039
CREATED:20221220T221916Z
LAST-MODIFIED:20230703T121224Z
UID:801-1683972000-1683972000@tempolakeglade.com
SUMMARY:Tempo Lake HOA annual meeting
DESCRIPTION:East Olympia Fire House  /  \n8047 Normandy St SE\nOlympia\, WA 98501  / \nMay 13 @ 10:00 am
URL:https://tempolakeglade.com/calendar_event/tempo-lake-hoa-annual-meeting-tentative/
END:VEVENT
BEGIN:VEVENT
DTSTART;TZID=America/Los_Angeles:20230419T170000
DTEND;TZID=America/Los_Angeles:20230419T180000
DTSTAMP:20260419T152039
CREATED:20221220T221801Z
LAST-MODIFIED:20230703T121436Z
UID:800-1681923600-1681927200@tempolakeglade.com
SUMMARY:Tempo Lake HOA board meeting
DESCRIPTION:East Olympia Fire House  /  \n8047 Normandy St SE\nOlympia\, WA 98501  / \nApril 19 @ 5:00 pm – 6:00 pm
URL:https://tempolakeglade.com/calendar_event/tempo-lake-hoa-board-meeting-tentative/
END:VEVENT
BEGIN:VEVENT
DTSTART;TZID=America/Los_Angeles:20230315T170000
DTEND;TZID=America/Los_Angeles:20230315T180000
DTSTAMP:20260419T152039
CREATED:20221220T221655Z
LAST-MODIFIED:20230703T121527Z
UID:799-1678899600-1678903200@tempolakeglade.com
SUMMARY:Tempo Lake HOA board meeting
DESCRIPTION:East Olympia Fire House  /  \n8047 Normandy St SE\nOlympia\, WA 98501  / \nMarch 15 @ 5:00 pm – 6:00 pm
URL:https://tempolakeglade.com/calendar_event/tempo-lake-hoa-board-meeting-5/
END:VEVENT
BEGIN:VEVENT
DTSTART;TZID=America/Los_Angeles:20230215T170000
DTEND;TZID=America/Los_Angeles:20230215T180000
DTSTAMP:20260419T152039
CREATED:20221220T221604Z
LAST-MODIFIED:20230703T121656Z
UID:798-1676480400-1676484000@tempolakeglade.com
SUMMARY:Tempo Lake HOA board meeting
DESCRIPTION:East Olympia Fire House  /  \n8047 Normandy St SE\nOlympia\, WA 98501  / \nFebruary 15 @ 5:00 pm – 6:00 pm
URL:https://tempolakeglade.com/calendar_event/tempo-lake-hoa-board-meeting-4/
END:VEVENT
BEGIN:VEVENT
DTSTART;TZID=America/Los_Angeles:20230118T170000
DTEND;TZID=America/Los_Angeles:20230118T180000
DTSTAMP:20260419T152039
CREATED:20221220T221525Z
LAST-MODIFIED:20230703T121804Z
UID:797-1674061200-1674064800@tempolakeglade.com
SUMMARY:Tempo Lake HOA board meeting
DESCRIPTION:East Olympia Fire House  /  \n8047 Normandy St SE\nOlympia\, WA 98501  / \nJanuary 18 @ 5:00 pm – 6:00 pm
URL:https://tempolakeglade.com/calendar_event/tempo-lake-hoa-board-meeting-3/
END:VEVENT
BEGIN:VEVENT
DTSTART;TZID=America/Los_Angeles:20221214T170000
DTEND;TZID=America/Los_Angeles:20221214T180000
DTSTAMP:20260419T152039
CREATED:20221130T033700Z
LAST-MODIFIED:20221130T033838Z
UID:795-1671037200-1671040800@tempolakeglade.com
SUMMARY:Tempo Lake HOA board meeting
DESCRIPTION:East Olympia Fire House \n8047 Normandy St SE\nOlympia\, WA 98501
URL:https://tempolakeglade.com/calendar_event/tempo-lake-hoa-board-meeting-2/
END:VEVENT
BEGIN:VEVENT
DTSTART;TZID=America/Los_Angeles:20221018T170000
DTEND;TZID=America/Los_Angeles:20221018T180000
DTSTAMP:20260419T152039
CREATED:20220922T044758Z
LAST-MODIFIED:20221019T040833Z
UID:788-1666112400-1666116000@tempolakeglade.com
SUMMARY:Tempo Lake HOA board meeting
DESCRIPTION:Meeting Cancelled – To be rescheduled to a later date.\nEast Olympia Fire House \n8047 Normandy St SE\nOlympia\, WA 98501
URL:https://tempolakeglade.com/calendar_event/788/
END:VEVENT
BEGIN:VEVENT
DTSTART;TZID=America/Los_Angeles:20220920T170000
DTEND;TZID=America/Los_Angeles:20220920T180000
DTSTAMP:20260419T152039
CREATED:20220914T032839Z
LAST-MODIFIED:20220920T052734Z
UID:785-1663693200-1663696800@tempolakeglade.com
SUMMARY:Tempo Lake HOA board meeting
DESCRIPTION:East Olympia Fire House \n8047 Normandy St SE\nOlympia\, WA 98501
URL:https://tempolakeglade.com/calendar_event/tempo-lake-hoa-board-meeting/
END:VEVENT
BEGIN:VEVENT
DTSTART;TZID=America/Los_Angeles:20220827T100000
DTEND;TZID=America/Los_Angeles:20220827T100000
DTSTAMP:20260419T152039
CREATED:20220623T023235Z
LAST-MODIFIED:20220623T023523Z
UID:780-1661594400-1661594400@tempolakeglade.com
SUMMARY:Tempo Lake Glade Association Annual Meeting
DESCRIPTION:East Olympia Fire House\n8047 Normandy St SE\nOlympia\, WA 98501
URL:https://tempolakeglade.com/calendar_event/tempo-lake-glade-association-annual-meeting/
END:VEVENT
BEGIN:VEVENT
DTSTART;TZID=America/Los_Angeles:20220726T170000
DTEND;TZID=America/Los_Angeles:20220726T190000
DTSTAMP:20260419T152039
CREATED:20220623T023146Z
LAST-MODIFIED:20220719T034005Z
UID:779-1658854800-1658862000@tempolakeglade.com
SUMMARY:Tempo Lake Glade Association Board Meeting
DESCRIPTION:Rescheduled to this new date because the firehouse was unavailable on the date originally scheduled. \nEast Olympia Fire House\n8047 Normandy St SE\nOlympia\, WA 98501
URL:https://tempolakeglade.com/calendar_event/tempo-lake-glade-association-board-meeting-2/
END:VEVENT
BEGIN:VEVENT
DTSTART;TZID=America/Los_Angeles:20220622T050000
DTEND;TZID=America/Los_Angeles:20220622T190000
DTSTAMP:20260419T152039
CREATED:20220623T023016Z
LAST-MODIFIED:20220623T023511Z
UID:778-1655874000-1655924400@tempolakeglade.com
SUMMARY:Tempo Lake Glade Association Board Meeting
DESCRIPTION:East Olympia Fire House\n8047 Normandy St SE\nOlympia\, WA 98501
URL:https://tempolakeglade.com/calendar_event/tempo-lake-glade-association-board-meeting/
END:VEVENT
BEGIN:VEVENT
DTSTART;TZID=America/Los_Angeles:20200509T080000
DTEND;TZID=America/Los_Angeles:20200509T170000
DTSTAMP:20260419T152039
CREATED:20200318T231816Z
LAST-MODIFIED:20200318T231816Z
UID:774-1589011200-1589043600@tempolakeglade.com
SUMMARY:Annual Meeting Postponed:  new date - TBD
DESCRIPTION:Annual Meeting Postponed:  new date – TBD
URL:https://tempolakeglade.com/calendar_event/annual-meeting-postponed-new-date-tbd/
END:VEVENT
BEGIN:VEVENT
DTSTART;TZID=America/Los_Angeles:20200326T170000
DTEND;TZID=America/Los_Angeles:20200326T180000
DTSTAMP:20260419T152039
CREATED:20191223T110149Z
LAST-MODIFIED:20200318T231433Z
UID:767-1585242000-1585245600@tempolakeglade.com
SUMMARY:Until Further Notice:  All Board Meetings Canceled
DESCRIPTION:Until Further Notice:  All Board Meetings Canceled
URL:https://tempolakeglade.com/calendar_event/board-meeting-thursday-500-600-east-olympia-firehouse-3/
END:VEVENT
BEGIN:VEVENT
DTSTART;TZID=America/Los_Angeles:20200227T170000
DTEND;TZID=America/Los_Angeles:20200227T180000
DTSTAMP:20260419T152039
CREATED:20191223T105957Z
LAST-MODIFIED:20200224T064841Z
UID:766-1582822800-1582826400@tempolakeglade.com
SUMMARY:Board Meeting Canceled
DESCRIPTION:Board Meeting Canceled\n 
URL:https://tempolakeglade.com/calendar_event/board-meeting-thursday-500-600-east-olympia-firehouse-2/
END:VEVENT
BEGIN:VEVENT
DTSTART;TZID=America/Los_Angeles:20200130T170000
DTEND;TZID=America/Los_Angeles:20200130T180000
DTSTAMP:20260419T152039
CREATED:20191223T105840Z
LAST-MODIFIED:20200129T221536Z
UID:765-1580403600-1580407200@tempolakeglade.com
SUMMARY:Board Meeting Canceled
DESCRIPTION:Board Meeting Canceled\n 
URL:https://tempolakeglade.com/calendar_event/board-meeting-thursday-500-600-east-olympia-firehouse/
END:VEVENT
BEGIN:VEVENT
DTSTART;TZID=America/Los_Angeles:20191212T170000
DTEND;TZID=America/Los_Angeles:20191212T180000
DTSTAMP:20260419T152039
CREATED:20191211T062842Z
LAST-MODIFIED:20191211T063524Z
UID:761-1576170000-1576173600@tempolakeglade.com
SUMMARY:Board Meeting: 5:00-6:00 pm\, East Olympia Firehouse.
DESCRIPTION:  \nBoard Meeting:\nThursday\, Dec 12\n5:00-6:00 pm\nEast Olympia Firehouse.
URL:https://tempolakeglade.com/calendar_event/board-meeting-thursday-dec-12th-500-600-east-olympia-firehouse/
END:VEVENT
BEGIN:VEVENT
DTSTART;VALUE=DATE:20191114
DTEND;VALUE=DATE:20191115
DTSTAMP:20260419T152039
CREATED:20191113T034256Z
LAST-MODIFIED:20191113T034322Z
UID:759-1573689600-1573775999@tempolakeglade.com
SUMMARY:Board Meeting Canceled.  Going forward\, notice of board meeting will only be posted on website calendar.
DESCRIPTION:Board meeting canceled.\n\nGoing forward\, notice of board meeting will only be posted on website calendar.
URL:https://tempolakeglade.com/calendar_event/board-meeting-canceled/
END:VEVENT
BEGIN:VEVENT
DTSTART;TZID=America/Los_Angeles:20191031T170000
DTEND;TZID=America/Los_Angeles:20191031T170000
DTSTAMP:20260419T152039
CREATED:20191009T014847Z
LAST-MODIFIED:20191009T014847Z
UID:753-1572541200-1572541200@tempolakeglade.com
SUMMARY:Firehouse unavailable; Board Meeting rescheduled to Nov 14
DESCRIPTION:Firehouse unavailable;\nBoard Meeting rescheduled to Nov 14
URL:https://tempolakeglade.com/calendar_event/firehouse-unavailable-board-meeting-rescheduled-nov-14/
END:VEVENT
BEGIN:VEVENT
DTSTART;TZID=America/Los_Angeles:20190926T170000
DTEND;TZID=America/Los_Angeles:20190926T180000
DTSTAMP:20260419T152039
CREATED:20190924T015043Z
LAST-MODIFIED:20190924T020358Z
UID:750-1569517200-1569520800@tempolakeglade.com
SUMMARY:Board Meeting 5:00-6:00PM  East Olympia Firehouse
DESCRIPTION:
URL:https://tempolakeglade.com/calendar_event/board-meeting-6/
END:VEVENT
BEGIN:VEVENT
DTSTART;TZID=America/Los_Angeles:20190627T170000
DTEND;TZID=America/Los_Angeles:20190627T180000
DTSTAMP:20260419T152039
CREATED:20190626T023117Z
LAST-MODIFIED:20190626T023735Z
UID:747-1561654800-1561658400@tempolakeglade.com
SUMMARY:Board Meeting     5:00-6:00 PM   East Olympia Firehouse
DESCRIPTION:
URL:https://tempolakeglade.com/calendar_event/board-meeting-5/
END:VEVENT
BEGIN:VEVENT
DTSTART;TZID=America/Los_Angeles:20190601T100000
DTEND;TZID=America/Los_Angeles:20190601T120000
DTSTAMP:20260419T152039
CREATED:20190324T035212Z
LAST-MODIFIED:20190324T040515Z
UID:741-1559383200-1559390400@tempolakeglade.com
SUMMARY:TLGA ANNUAL MEETING 10 AM - NOON East Olympia Firehouse
DESCRIPTION:East Olympia Firehouse
URL:https://tempolakeglade.com/calendar_event/tlga-annual-meeting/
END:VEVENT
BEGIN:VEVENT
DTSTART;TZID=America/Los_Angeles:20190425T170000
DTEND;TZID=America/Los_Angeles:20190425T180000
DTSTAMP:20260419T152039
CREATED:20190324T034955Z
LAST-MODIFIED:20190324T040222Z
UID:740-1556211600-1556215200@tempolakeglade.com
SUMMARY:BOARD MEETING  5:00 - 6:00 PM East Olympia Firehouse
DESCRIPTION:  \nEast Olympia Firehouse
URL:https://tempolakeglade.com/calendar_event/board-meeting-4/
END:VEVENT
BEGIN:VEVENT
DTSTART;TZID=America/Los_Angeles:20190328T180000
DTEND;TZID=America/Los_Angeles:20190328T180000
DTSTAMP:20260419T152039
CREATED:20190324T034631Z
LAST-MODIFIED:20190324T035616Z
UID:739-1553796000-1553796000@tempolakeglade.com
SUMMARY:Board Meeting CANCELED
DESCRIPTION:Board Meeting Canceled
URL:https://tempolakeglade.com/calendar_event/board-meeting-cancelled/
END:VEVENT
BEGIN:VEVENT
DTSTART;TZID=America/Los_Angeles:20190131T170000
DTEND;TZID=America/Los_Angeles:20190131T190000
DTSTAMP:20260419T152039
CREATED:20190117T100044Z
LAST-MODIFIED:20190117T100044Z
UID:736-1548954000-1548961200@tempolakeglade.com
SUMMARY:Firehouse unavailable: Board meeting canceled
DESCRIPTION:Firehouse unavailable:\nBoard meeting canceled
URL:https://tempolakeglade.com/calendar_event/firehouse-unavailable-board-meeting-canceled-2/
END:VEVENT
BEGIN:VEVENT
DTSTART;TZID=America/Los_Angeles:20181129T170000
DTEND;TZID=America/Los_Angeles:20181129T180000
DTSTAMP:20260419T152039
CREATED:20181022T065401Z
LAST-MODIFIED:20181022T065401Z
UID:721-1543510800-1543514400@tempolakeglade.com
SUMMARY:Board Meeting 5:00 - 6:00PM Thursday\, Nov 29 East Olympia Firehouse
DESCRIPTION:Board Meeting 5:00 – 6:00PM East Olympia Firehouse
URL:https://tempolakeglade.com/calendar_event/board-meeting-500-600pm-east-olympia-firehouse/
END:VEVENT
BEGIN:VEVENT
DTSTART;TZID=America/Los_Angeles:20181025T170000
DTEND;TZID=America/Los_Angeles:20181025T190000
DTSTAMP:20260419T152039
CREATED:20180924T040431Z
LAST-MODIFIED:20181022T212613Z
UID:718-1540486800-1540494000@tempolakeglade.com
SUMMARY:Board Meeting CANCELED
DESCRIPTION: Board Meeting CANCELED
URL:https://tempolakeglade.com/calendar_event/board-meeting-5-pm-thursday-oct-25th-east-olympia-firehouse/
END:VEVENT
BEGIN:VEVENT
DTSTART;TZID=America/Los_Angeles:20180927T080000
DTEND;TZID=America/Los_Angeles:20180927T170000
DTSTAMP:20260419T152039
CREATED:20180924T035601Z
LAST-MODIFIED:20180924T035601Z
UID:716-1538035200-1538067600@tempolakeglade.com
SUMMARY:No Board Meeting Sept 27th (Firehouse NOT available)
DESCRIPTION:Sep 27th: No board meeting (firehouse NOT available)
URL:https://tempolakeglade.com/calendar_event/board-meeting-sept-27th-firehouse-available/
END:VEVENT
BEGIN:VEVENT
DTSTART;TZID=America/Los_Angeles:20180621T163000
DTEND;TZID=America/Los_Angeles:20180621T173000
DTSTAMP:20260419T152039
CREATED:20180616T233622Z
LAST-MODIFIED:20180617T010645Z
UID:713-1529598600-1529602200@tempolakeglade.com
SUMMARY:Board Meeting Thursday\, June 21st\, 4:30 pm East Olympia Firehouse
DESCRIPTION:Board Meeting\nThursday\, June 21st\, 4:30 pm\nEast Olympia Firehouse
URL:https://tempolakeglade.com/calendar_event/board-meeting-thursday-june-21st-430-pm-east-olympia-firehouse/
END:VEVENT
BEGIN:VEVENT
DTSTART;TZID=America/Los_Angeles:20180602T100000
DTEND;TZID=America/Los_Angeles:20180602T100000
DTSTAMP:20260419T152039
CREATED:20180312T063101Z
LAST-MODIFIED:20180312T063101Z
UID:679-1527933600-1527933600@tempolakeglade.com
SUMMARY:TLGA Annual Meeting\, 10:00 AM Saturday\, June 2\, 2018\, East Olympia Firehouse
DESCRIPTION:TLGA Annual Meeting\, 10:00 AM Saturday\, June 2\, 2018\, East Olympia Firehouse
URL:https://tempolakeglade.com/calendar_event/tlga-annual-meeting-1000-saturday-june-2-2018-east-olympia-firehouse/
END:VEVENT
BEGIN:VEVENT
DTSTART;VALUE=DATE:20180512
DTEND;VALUE=DATE:20180513
DTSTAMP:20260419T152039
CREATED:20170603T000206Z
LAST-MODIFIED:20180312T063812Z
UID:648-1526083200-1526169599@tempolakeglade.com
SUMMARY:TLGA Annual Meeting RESCHEDULED to June 2.
DESCRIPTION:TLGA Annual Meeting RESCHEDULED to June 2.
URL:https://tempolakeglade.com/calendar_event/tlga-annual-meeting-1000-sat-may-12-2018-east-olympia-firehouse/
END:VEVENT
END:VCALENDAR